BEGIN:VCALENDAR
VERSION:2.0
PRODID:-//Astara Raven - ECPv6.15.20//NONSGML v1.0//EN
CALSCALE:GREGORIAN
METHOD:PUBLISH
X-WR-CALNAME:Astara Raven
X-ORIGINAL-URL:https://astararaven.love
X-WR-CALDESC:Events for Astara Raven
REFRESH-INTERVAL;VALUE=DURATION:PT1H
X-Robots-Tag:noindex
X-PUBLISHED-TTL:PT1H
BEGIN:VTIMEZONE
TZID:America/Chicago
BEGIN:DAYLIGHT
TZOFFSETFROM:-0600
TZOFFSETTO:-0500
TZNAME:CDT
DTSTART:20250309T080000
END:DAYLIGHT
BEGIN:STANDARD
TZOFFSETFROM:-0500
TZOFFSETTO:-0600
TZNAME:CST
DTSTART:20251102T070000
END:STANDARD
BEGIN:DAYLIGHT
TZOFFSETFROM:-0600
TZOFFSETTO:-0500
TZNAME:CDT
DTSTART:20260308T080000
END:DAYLIGHT
BEGIN:STANDARD
TZOFFSETFROM:-0500
TZOFFSETTO:-0600
TZNAME:CST
DTSTART:20261101T070000
END:STANDARD
BEGIN:DAYLIGHT
TZOFFSETFROM:-0600
TZOFFSETTO:-0500
TZNAME:CDT
DTSTART:20270314T080000
END:DAYLIGHT
BEGIN:STANDARD
TZOFFSETFROM:-0500
TZOFFSETTO:-0600
TZNAME:CST
DTSTART:20271107T070000
END:STANDARD
END:VTIMEZONE
BEGIN:VEVENT
DTSTART;TZID=America/Chicago:20260207T183000
DTEND;TZID=America/Chicago:20260207T220000
DTSTAMP:20260424T103653
CREATED:20260117T182025Z
LAST-MODIFIED:20260123T051211Z
UID:18192-1770489000-1770501600@astararaven.love
SUMMARY:Ekphrastic: Poetry + Art
DESCRIPTION:Join us for an Ekphrastic show featuring Harvester artists & local poets. \nEkphrastic refers to writing or poetry that vividly describes a work of visual art\, using detailed verbal representation to bring a painting\, sculpture\, or other visual object to life and explore its meaning. This will be a sweet dialogue between music\, the visual\, and the literary. \nAstara is one of the poets sharing her ekphrastic poem inspired by Julie Jenowe’s artwork\, Orion will provide music accompaniment. There will be many other poets reading their poems inspired by artwork in the gallery. \n6:30 – 7:00: live music from Echo as people arrive\n7:00 – 8:30: show\n8:30 – 10:00: socializing \nInvestment: request a $5 donation at door.
URL:https://astararaven.love/event/ekphrastic-poetry-art/
LOCATION:Harvester Artist Lofts\, 1000 S Main St.\, Council Bluffs\, IA\, 51503\, United States
CATEGORIES:Poetry
ATTACH;FMTTYPE=image/jpeg:https://astararaven.love/wp-content/uploads/2026/01/Ekphrastic-1200_628.jpg
END:VEVENT
END:VCALENDAR