BEGIN:VCALENDAR
VERSION:2.0
PRODID:-//Astara Raven - ECPv6.15.20//NONSGML v1.0//EN
CALSCALE:GREGORIAN
METHOD:PUBLISH
X-WR-CALNAME:Astara Raven
X-ORIGINAL-URL:https://astararaven.love
X-WR-CALDESC:Events for Astara Raven
REFRESH-INTERVAL;VALUE=DURATION:PT1H
X-Robots-Tag:noindex
X-PUBLISHED-TTL:PT1H
BEGIN:VTIMEZONE
TZID:America/Chicago
BEGIN:DAYLIGHT
TZOFFSETFROM:-0600
TZOFFSETTO:-0500
TZNAME:CDT
DTSTART:20220313T080000
END:DAYLIGHT
BEGIN:STANDARD
TZOFFSETFROM:-0500
TZOFFSETTO:-0600
TZNAME:CST
DTSTART:20221106T070000
END:STANDARD
BEGIN:DAYLIGHT
TZOFFSETFROM:-0600
TZOFFSETTO:-0500
TZNAME:CDT
DTSTART:20230312T080000
END:DAYLIGHT
BEGIN:STANDARD
TZOFFSETFROM:-0500
TZOFFSETTO:-0600
TZNAME:CST
DTSTART:20231105T070000
END:STANDARD
BEGIN:DAYLIGHT
TZOFFSETFROM:-0600
TZOFFSETTO:-0500
TZNAME:CDT
DTSTART:20240310T080000
END:DAYLIGHT
BEGIN:STANDARD
TZOFFSETFROM:-0500
TZOFFSETTO:-0600
TZNAME:CST
DTSTART:20241103T070000
END:STANDARD
BEGIN:DAYLIGHT
TZOFFSETFROM:-0600
TZOFFSETTO:-0500
TZNAME:CDT
DTSTART:20250309T080000
END:DAYLIGHT
BEGIN:STANDARD
TZOFFSETFROM:-0500
TZOFFSETTO:-0600
TZNAME:CST
DTSTART:20251102T070000
END:STANDARD
BEGIN:DAYLIGHT
TZOFFSETFROM:-0600
TZOFFSETTO:-0500
TZNAME:CDT
DTSTART:20260308T080000
END:DAYLIGHT
BEGIN:STANDARD
TZOFFSETFROM:-0500
TZOFFSETTO:-0600
TZNAME:CST
DTSTART:20261101T070000
END:STANDARD
END:VTIMEZONE
BEGIN:VEVENT
DTSTART;TZID=America/Chicago:20250517T100000
DTEND;TZID=America/Chicago:20250517T190000
DTSTAMP:20260424T120110
CREATED:20241231T181705Z
LAST-MODIFIED:20250306T223832Z
UID:16621-1747476000-1747508400@astararaven.love
SUMMARY:How the Heart Designs Time: Immersion Experience (Sold Out)
DESCRIPTION:Update: although this event is sold out\, if you are interested in bringing the same immersion experience to your town and community\, reach out and we can design it together! \nWe’re thrilled to invite you on another unique walk through the quantum wilderness! On Saturday\, May 17th at the forest sanctuary home of our friends Jason and Tanya Henkel\, they’ll be hosting us in one of their innovative and playful Deviation Gatherings. \nIf you’re craving a recalibration towards your inner guidance system — whether you’ve been stuck in your head\, feeling overwhelmed\, or experiencing anxiety\, fatigue\, burnout\, or mild depression — this experience will be the tune-up and warm embrace you need. \nHow the Heart Designs Tell Time – Immersion Experience\nNature’s Intelligence (NI) is the OG version of AI. NI winks and whispers\, “AI? Is anything truly artificial?” Then it winks again and replies\, “No\,” because everything is alive. Our most advanced technology is merely a toddler imitation of a cosmic wisdom—older than time—that we hunger to re-member. That’s why wisdom traditions and shamanic practices worldwide immerse themselves in nature’s teachings for healing and re-enchantment of our body\, energy field\, and planet. NI is our greatest mentor. When we begin to listen\, breathe\, move\, and pay attention to that aliveness within and around us\, we truly come alive. \nJoin Astara and Orion of Illuminating Hearts for an immersive day to re-enchant yourself and embrace your own nature—your aliveness. Get to know your soul architecture more intimately. Build the capacity to hold the infinite energy that you are\, and step onto a path of clarity and power. Enjoy personal reflection and healing\, Sound Alchemy (resonance medicine)\, a cacao heart-opening Hearth Tea ceremony\, Shinrin Yoku (Forest Bathing)\, transformational shamanic journeying\, breathwork\, soulful conscious movement\, time travel/quantum leaping\, and Merkaba activation. \nRelease the illusion that you must think your way through life. Instead\, learn how to feel your way!Become the conscious designer of your life to redefine soul-aligned success\, health\, thriving\, joy\, and higher consciousness. As if that’s not enough\, you’ll leave with a special gift: a signed copy of How the Stars Tell Time\, written by Astara. \nJoin us and other fellow seekers for an enriching\, fun\, and revitalizing experience! \nDate: Saturday\, May 17th\, 2025 (10am–7pm)\nLocation: Henkel’s “Forest Sanctuary” home\nCost (all included): $222 \n**Please RSVP at your earliest opportunity if interested by responding to this email** \n \nPS: This will be first come\, first serve\, and it will fill quickly. We’re keeping this gathering intimate\, capped at 20 participants. \nPSS: To keep cost to a minimum\, we are going to do potluck style snacks/food. \nBook a Heartifact Archaeology Session with Astara Raven!\nAstara will provide her signature Heartifact Archaeology sessions the next day after the immersion experience. \nChronic conditions\, negative habits\, and toxic thought patterns have roots in emotional and energetic imprints stored in the body and field. Astara will help you unwind deep-seated patterns and uncover authentic knowing at the soul root. \nAs a quantum architect and transformation coach\, her work mimics the systems thinking of Nature’s Intelligence using diverse tools: conscious tarot\, Sound Alchemy\, medical mediumship\, shamanism\, vortex healing\, channeling\, Energy Codes©\, Quantum Architecture©\, time travel\, DNA upgrades (ancestral healing)\, Akashic Records (other lifetimes)\, Soul Star Mapping© (astrology\, Human Design\, numerology)\, and more.
URL:https://astararaven.love/event/how-the-heart-designs-time/
LOCATION:Henkel’s “Forest Sanctuary” Home\, ﻿﻿948 Hemlock Ln.\, Sagamore Hills\, OH\, 44067\, United States
CATEGORIES:Breathwork,Cacao Ceremony,Dance Alchemy,Heartifact Ecosystem,Sound Alchemy
ATTACH;FMTTYPE=image/jpeg:https://astararaven.love/wp-content/uploads/2024/12/How-the-Heart-Designs-Time-Immersion-Experience-final.jpg
ORGANIZER;CN="Deviation Experiences":MAILTO:jason@focustoevolve.com
END:VEVENT
BEGIN:VEVENT
DTSTART;TZID=America/Chicago:20230428T180000
DTEND;TZID=America/Chicago:20230428T210000
DTSTAMP:20260424T120110
CREATED:20230403T223712Z
LAST-MODIFIED:20230417T002311Z
UID:12501-1682704800-1682715600@astararaven.love
SUMMARY:Dancing Freedom + Sound Alchemy Workshop
DESCRIPTION:Join Illuminating Hearts with special guest Atasieā in a Dancing Freedom + Sound Alchemy workshop. Enjoy a shift in consciousness through dance and then stay after for an energetic integration and tune-up through sound. Heal and discover new dimensions of being.  \nFriday April 28 6pm-9pm\nBancroft Street Market\n$55 Advance\, $66 Door \n \nAstara and Orion are thrilled to bring Atasieā to the heartland from Los Angeles! Atasieā is a world-renowned conscious dance facilitator\, who will lead the first part of this powerful workshop in a conscious movement healing practice called Dancing Freedom. Let Dancing Freedom unwind the old to open the door to the magic inside you.\n \n \nDancing Freedom is a shamanic dance journey that enables practitioners to shift states of consciousness utilizing dance as a form of ceremonial embodiment practice\, somatic healing\, movement meditation\, and celebration. In the Dancing Freedom journey we move through a playlist designed to invoke the 5 elements earth\, water\, fire\, air\, and ether\, while the facilitator\, Atasieā\, guides the journey inviting participants to explore using solo/partner/group exercises which facilitate states of ecstatic communion with ourselves\, the elements\, the unseen\, and the SOURCE of all life. Learn more about dancing freedom. Learn more about conscious movement. \nWatch a clip of Atasieā facilitating a Dancing Freedom journey on Lost Resort on TBS Network. \n \nAfter the dance\, stay and integrate your healing experience with Illuminating Heart’s Sound Alchemy. Let Sound Alchemy integrate you body and soul.  \nWe describe “Sound healing” as Sound Alchemy. Resonance medicine heals AND it creates alchemy\, altering dissonant states of being to harmonious ones. Alchemy is changing the fundamental relationship to yourself and the world. Our intentional sound is a channeled energy transmission\, lifting you in expanded resonance\, integrating lost soul parts\, and revealing the magnificence of your healing capacity. Take some much needed time to TRULY drop in and restore (re-star) yourself. \nEnjoy a sample of Sound Alchemy. \nFrom dance to sound\, you will leave this incredible workshop a whole new you. Your body will thank you. Your soul will thank you! \n \nDress comfortably. Wear clothing for movement. Bring your favorite yoga mat/blanket/bolster/pillow to make a comfortable nest for after dance. We will have options of chairs for those who need them during the sound. If you have an Illuminating Hearts mindfold/eyemask\, please bring it. If not\, we provide you a loaner. (they’re also for sale at our events) As an event for deep processing\, deep relaxation\, and meditation\, humans aged 18 and up may attend to maintain this atmosphere. \n \nAtasieā\, (a.k.a. Kenneth Lawrence Ferguson) is a professional Healer\, Actor\, Dancer\, Yogi\, and Martial Artist. He is a certified Dancing Freedom Facilitator\, Ashtanga Vinyasa Yoga Instructor\, Capoeira Angola instructor\, Reiki Master\, and Minister. He is the Co-Founder of both The Dharma Creation Institute\, and Ecstatic Dance Los Angeles\, a freeform dance event with yoga\, massage\, sound healing\, and live DJs. Atasieā is one of the lead healers on Season 1 of the new reality television series called LOST RESORT on TBS Network\, a show about holistic healing and transformational retreats. \nHe is internationally recognized as a leader in the conscious dance and holistic healing community. As a respected facilitator and event producer\, he has facilitated and guided thousands of people in healing ceremonies\, classes\, and conscious dance experiences at conferences\, retreats\, festivals and trainings world wide with organizations like: Ecstatic Dance Los Angeles\, TBS \, The Awakening Heart School of Sacred Living\, Dancing Freedom Facilitators International\, Lightning In A Bottle Music/ Arts Festival\, The international Capoeira Angola Foundation\, Dance Beyond Retreats\, The Ecstatic Dance National Bus Tour\, the Ecstatic Dance Leadership Retreat\, and the GSA Conservatoire. Learn more about Atasieā. \nWhat our friends say about Atasieā: \nDancing Freedom with Atasieā is just that\, dancing freedom! A beautyfully guided experience that allows you to feel fully FREE while dancing your heart\, emotions\, traumas & triggers out. Atasieā’s guidance provides such a special human permission slip to drop into your body\, connect with your heart\, connect with your emotions\, connect with the elements\, connect with the music and let it all GO! Through Dancing Freedom\, I’ve moved stuck energy. I’m thinking\, criticizing\, and judging myself less and by finding more patience\, acceptance and compassion towards my life experiences. I HIGHLY recommend that anyone who has the chance to attend a Dancing Freedom workshop with Atasieā\, do it. It is tremendously transformative & we are All worthy of being held in a safe space\, the way that Atasieā & Dancing Freedom holds you.” – Davina Joy\, sound healer\, medicine woman\, comedian\, Los Angeles\, California \n“Atasiea is a masterful facilitator. I’ve rarely been guided so intuitively to a place of connection with my innermost wisdom. My body became a gateway to my soul. And the inspired movement opened the space for my soul to reveal its truth to my heart and mind. A truly life-changing experience!”  – Ray\, librarian and retired massage therapy instructor\, Los Angeles\, California\n \n \n \nIlluminating Hearts is a Love Lifestyle Collaboration (LLC) out of the heartland\, providing diverse innovative mindfulness services so that others may thrive. We help you imagine\, solve\, create and live vitally from the intelligence of the heart and soul. Collaborators Astara and Orion cross-pollinate sonic resonance and heart coherence\, science and spirituality\, theory and the experiential. We weave our integrative offerings from a multi-disciplinary eco-system of acoustics\, metaphysics\, mindfulness\, mysticism\, fluid movement\, bioenergetics\, somatic awareness\, and sustainability. Consequently\, such a diversity of disciplines coming together creates a more holistic approach than any one discipline on its own. Learn more about Astara and Orion. \nWhat our friends say about Illuminating Hearts: \n“I just got to experience Illuminating Hearts for the first time tonight. It was an incredible journey\, via sound\, through the many places my mind was able to take me. Absolutely wonderful experience. A universal vacation through mind\, body\, and spirit. I look forward to more. Thank you!” – Brain Wetjen\, artist and owner of Split Gallery\, Omaha\, Nebraska\n \n“I had my first experience with Illuminating Hearts at a Sound Alchemy event last night. It was incredible! I can’t put words on it. I am still vibrating with the love and healing I experienced even this morning. Thank you so much for sharing your gifts! Many blessings be upon you! Abundant love and gratitude!” – Carol Radke\, massage therapist\, Omaha\, Nebraska\n \n“Illuminating Hearts are pure magic. Never before have I felt vibration in every cell of my body\, creating a thrumming that transformed time and space. My whole body became rivers of sound. Orion and Astara are bringing a profound experience into the world\, don’t miss it!!” – Susan Steindorf\, owner of Dayaalu Center\, Bainbridge Island\, Washington \n  \n \nFAQs \nAre there minimum age requirements to enter the event? \nAs an event for deep processing\, deep relaxation\, and meditation\, humans aged 18 and up may attend to maintain this atmosphere. \nWhat can I bring into the event? \nDress comfortably. Wear clothing for movement. Bring your favorite yoga mat/blanket/bolster/pillow to make a comfortable nest for the sound after. If you have an Illuminating Hearts mindfold/eyemask\, please bring it. If this is your first one\, you will be provided a loaner! (we have them for sale at our events) \nWhat’s the refund policy? \nWe refund cancellations in full received 24 Hours or more notice in advance of the event. Any cancellations we receive with less than 24 Hours notice in advance of the event will not be refunded. Read our event policy. \nWill there be filming or recording at the event? \nWhen you enter an Illuminating Hearts (IH) event\, you enter an area where photography\, audio\, and video recording may occur. Read our event policy\, including a notice of filming\, video and photography. Upon entering the event\, you agree to our event policy and effectively release IH\, its illuminators and collaborators\, and each and all persons involved\, from any liability connected with filming or recording. You also waive all rights you may have to any claims for payment or royalties associated with the recording. Our intention for filming and recording is to harvest beauty for the world. Thank you for being a part of this event with us! \nCan I contact the organizer with any questions? \nPlease email sound@illuminatinghearts with any further questions.
URL:https://astararaven.love/event/dancing-freedom-sound-alchemy/
LOCATION:Bancroft Street Market\, 2702 S 10th St.\, Omaha\, NE\, 68108\, United States
CATEGORIES:Dance Alchemy,Sound Alchemy
ATTACH;FMTTYPE=image/jpeg:https://astararaven.love/wp-content/uploads/2023/04/69800662_2356012077852953_7150123587146350592_o-1.jpg
ORGANIZER;CN="Illuminating Hearts":MAILTO:sound@illuminatinghearts.love
END:VEVENT
END:VCALENDAR